BEGIN:VCALENDAR
VERSION:2.0
PRODID:-//PA State Flaming Foliage Festival - ECPv6.15.20//NONSGML v1.0//EN
CALSCALE:GREGORIAN
METHOD:PUBLISH
X-ORIGINAL-URL:https://pastateflamingfoliagefestival.org
X-WR-CALDESC:Events for PA State Flaming Foliage Festival
REFRESH-INTERVAL;VALUE=DURATION:PT1H
X-Robots-Tag:noindex
X-PUBLISHED-TTL:PT1H
BEGIN:VTIMEZONE
TZID:America/New_York
BEGIN:DAYLIGHT
TZOFFSETFROM:-0500
TZOFFSETTO:-0400
TZNAME:EDT
DTSTART:20230312T070000
END:DAYLIGHT
BEGIN:STANDARD
TZOFFSETFROM:-0400
TZOFFSETTO:-0500
TZNAME:EST
DTSTART:20231105T060000
END:STANDARD
BEGIN:DAYLIGHT
TZOFFSETFROM:-0500
TZOFFSETTO:-0400
TZNAME:EDT
DTSTART:20240310T070000
END:DAYLIGHT
BEGIN:STANDARD
TZOFFSETFROM:-0400
TZOFFSETTO:-0500
TZNAME:EST
DTSTART:20241103T060000
END:STANDARD
BEGIN:DAYLIGHT
TZOFFSETFROM:-0500
TZOFFSETTO:-0400
TZNAME:EDT
DTSTART:20250309T070000
END:DAYLIGHT
BEGIN:STANDARD
TZOFFSETFROM:-0400
TZOFFSETTO:-0500
TZNAME:EST
DTSTART:20251102T060000
END:STANDARD
END:VTIMEZONE
BEGIN:VEVENT
DTSTART;TZID=America/New_York:20240323T100000
DTEND;TZID=America/New_York:20240323T140000
DTSTAMP:20260424T234423
CREATED:20240201T134029Z
LAST-MODIFIED:20240201T141343Z
UID:2240-1711188000-1711202400@pastateflamingfoliagefestival.org
SUMMARY:Spring Craft Show 2024
DESCRIPTION:Join us on March 23\, 2024 from 10:00 a.m. – 2:00 p.m. for our Spring Craft Show at the Citizens Hose Fire Company in South Renovo\, PA. Over 20 tables\, homemade pie sale\, food and drinks\, and pictures with the Easter Bunny! \n 
URL:https://pastateflamingfoliagefestival.org/event/spring-craft-show-2024/
ATTACH;FMTTYPE=image/jpeg:https://pastateflamingfoliagefestival.org/wp-content/uploads/2023/01/Spring-Craft-Show-2023_PA-State-Flaming-Foliage-Festival.jpg
END:VEVENT
END:VCALENDAR