BEGIN:VCALENDAR
VERSION:2.0
PRODID:-//PA State Flaming Foliage Festival - ECPv6.15.20//NONSGML v1.0//EN
CALSCALE:GREGORIAN
METHOD:PUBLISH
X-WR-CALNAME:PA State Flaming Foliage Festival
X-ORIGINAL-URL:https://pastateflamingfoliagefestival.org
X-WR-CALDESC:Events for PA State Flaming Foliage Festival
REFRESH-INTERVAL;VALUE=DURATION:PT1H
X-Robots-Tag:noindex
X-PUBLISHED-TTL:PT1H
BEGIN:VTIMEZONE
TZID:America/New_York
BEGIN:DAYLIGHT
TZOFFSETFROM:-0500
TZOFFSETTO:-0400
TZNAME:EDT
DTSTART:20220313T070000
END:DAYLIGHT
BEGIN:STANDARD
TZOFFSETFROM:-0400
TZOFFSETTO:-0500
TZNAME:EST
DTSTART:20221106T060000
END:STANDARD
BEGIN:DAYLIGHT
TZOFFSETFROM:-0500
TZOFFSETTO:-0400
TZNAME:EDT
DTSTART:20230312T070000
END:DAYLIGHT
BEGIN:STANDARD
TZOFFSETFROM:-0400
TZOFFSETTO:-0500
TZNAME:EST
DTSTART:20231105T060000
END:STANDARD
BEGIN:DAYLIGHT
TZOFFSETFROM:-0500
TZOFFSETTO:-0400
TZNAME:EDT
DTSTART:20240310T070000
END:DAYLIGHT
BEGIN:STANDARD
TZOFFSETFROM:-0400
TZOFFSETTO:-0500
TZNAME:EST
DTSTART:20241103T060000
END:STANDARD
BEGIN:DAYLIGHT
TZOFFSETFROM:-0500
TZOFFSETTO:-0400
TZNAME:EDT
DTSTART:20250309T070000
END:DAYLIGHT
BEGIN:STANDARD
TZOFFSETFROM:-0400
TZOFFSETTO:-0500
TZNAME:EST
DTSTART:20251102T060000
END:STANDARD
BEGIN:DAYLIGHT
TZOFFSETFROM:-0500
TZOFFSETTO:-0400
TZNAME:EDT
DTSTART:20260308T070000
END:DAYLIGHT
BEGIN:STANDARD
TZOFFSETFROM:-0400
TZOFFSETTO:-0500
TZNAME:EST
DTSTART:20261101T060000
END:STANDARD
BEGIN:DAYLIGHT
TZOFFSETFROM:-0500
TZOFFSETTO:-0400
TZNAME:EDT
DTSTART:20270314T070000
END:DAYLIGHT
BEGIN:STANDARD
TZOFFSETFROM:-0400
TZOFFSETTO:-0500
TZNAME:EST
DTSTART:20271107T060000
END:STANDARD
END:VTIMEZONE
BEGIN:VEVENT
DTSTART;VALUE=DATE:20231013
DTEND;VALUE=DATE:20231016
DTSTAMP:20260425T085100
CREATED:20230102T171753Z
LAST-MODIFIED:20230102T171753Z
UID:1981-1697155200-1697414399@pastateflamingfoliagefestival.org
SUMMARY:74th PA State Flaming Foliage Festival 2023
DESCRIPTION:74th Annual Festival Weekend \nOctober 13\, 14\, and 15th
URL:https://pastateflamingfoliagefestival.org/event/74th-pa-state-flaming-foliage-festival-2023/
LOCATION:PA State Flaming Foliage Festival\, 1200 Huron Avenue\, Renovo\, PA\, 17764\, United States
END:VEVENT
BEGIN:VEVENT
DTSTART;VALUE=DATE:20231126
DTEND;VALUE=DATE:20231127
DTSTAMP:20260425T085100
CREATED:20230102T172005Z
LAST-MODIFIED:20230102T172005Z
UID:1983-1700956800-1701043199@pastateflamingfoliagefestival.org
SUMMARY:2023 Santa Parade and Christmas Tree Lighting
DESCRIPTION:Join us on November 26\, 2023 for our Santa Parade and Lighting of the Christmas Tree Time.
URL:https://pastateflamingfoliagefestival.org/event/2023-santa-parade-and-christmas-tree-lighting/
END:VEVENT
BEGIN:VEVENT
DTSTART;TZID=America/New_York:20240323T100000
DTEND;TZID=America/New_York:20240323T140000
DTSTAMP:20260425T085100
CREATED:20240201T134029Z
LAST-MODIFIED:20240201T141343Z
UID:2240-1711188000-1711202400@pastateflamingfoliagefestival.org
SUMMARY:Spring Craft Show 2024
DESCRIPTION:Join us on March 23\, 2024 from 10:00 a.m. – 2:00 p.m. for our Spring Craft Show at the Citizens Hose Fire Company in South Renovo\, PA. Over 20 tables\, homemade pie sale\, food and drinks\, and pictures with the Easter Bunny! \n 
URL:https://pastateflamingfoliagefestival.org/event/spring-craft-show-2024/
ATTACH;FMTTYPE=image/jpeg:https://pastateflamingfoliagefestival.org/wp-content/uploads/2023/01/Spring-Craft-Show-2023_PA-State-Flaming-Foliage-Festival.jpg
END:VEVENT
BEGIN:VEVENT
DTSTART;TZID=America/New_York:20240525T090000
DTEND;TZID=America/New_York:20240525T150000
DTSTAMP:20260425T085100
CREATED:20240201T134809Z
LAST-MODIFIED:20240201T135651Z
UID:2244-1716627600-1716649200@pastateflamingfoliagefestival.org
SUMMARY:Community Yard Sale 2024
DESCRIPTION:Join us on May 25\, 2024 at 9:00 a.m. for a Community Yard Sale at the PA State Flaming Foliage Festival Lot. Table rentals are $3.00 and the kitchen will be open.
URL:https://pastateflamingfoliagefestival.org/event/community-yard-sale-2024/
LOCATION:PA State Flaming Foliage Festival\, 1200 Huron Avenue\, Renovo\, PA\, 17764\, United States
ATTACH;FMTTYPE=image/png:https://pastateflamingfoliagefestival.org/wp-content/uploads/2021/05/PA-State-Flaming-Foliage-Festival-Logo.png
END:VEVENT
BEGIN:VEVENT
DTSTART;VALUE=DATE:20240607
DTEND;VALUE=DATE:20240609
DTSTAMP:20260425T085100
CREATED:20240201T135503Z
LAST-MODIFIED:20240201T135614Z
UID:2249-1717718400-1717891199@pastateflamingfoliagefestival.org
SUMMARY:ATV Ride 2024
DESCRIPTION:Join us on June 7\, 2024 and June 8\, 2024 for an ATV Ride and Mr. Stickys Sale.
URL:https://pastateflamingfoliagefestival.org/event/atv-ride-2024/
ATTACH;FMTTYPE=image/png:https://pastateflamingfoliagefestival.org/wp-content/uploads/2021/05/PA-State-Flaming-Foliage-Festival-Logo.png
END:VEVENT
BEGIN:VEVENT
DTSTART;TZID=America/New_York:20240914T110000
DTEND;TZID=America/New_York:20240914T140000
DTSTAMP:20260425T085100
CREATED:20240201T140245Z
LAST-MODIFIED:20240731T134437Z
UID:2253-1726311600-1726322400@pastateflamingfoliagefestival.org
SUMMARY:Ping Pong Palooza\, Soup Sale\, Pot Pie Sale\, Basket Raffle 2024
DESCRIPTION:Join us on September 14\, 2024 at 11:00 a.m. for a Ping Pong Palooza PA State Flaming Foliage Festival Lot. We will be having a soup and pot pie sale as well as a basket raffle. Cornhole tournament begins at noon.
URL:https://pastateflamingfoliagefestival.org/event/ping-pong-palooza-soup-sale-pot-pie-sale-basket-raffle-2024/
LOCATION:PA State Flaming Foliage Festival\, 1200 Huron Avenue\, Renovo\, PA\, 17764\, United States
ATTACH;FMTTYPE=image/png:https://pastateflamingfoliagefestival.org/wp-content/uploads/2021/05/PA-State-Flaming-Foliage-Festival-Logo.png
END:VEVENT
BEGIN:VEVENT
DTSTART;VALUE=DATE:20241011
DTEND;VALUE=DATE:20241014
DTSTAMP:20260425T085100
CREATED:20240201T141156Z
LAST-MODIFIED:20240201T141156Z
UID:2263-1728604800-1728863999@pastateflamingfoliagefestival.org
SUMMARY:75th PA State Flaming Foliage Festival 2024
DESCRIPTION:We are excited to announce our 75th PA State Flaming Foliage Festive 2024 dates! Join us this year during the second full weekend in October 11\, 12\, and 13. What could be more fun than a weekend filled with arts and crafts\, a queen coronation\, a parade\, talent show\, flaming foliage\, and more! Learn more
URL:https://pastateflamingfoliagefestival.org/event/75th-pa-state-flaming-foliage-festival-2024/
LOCATION:PA State Flaming Foliage Festival\, 1200 Huron Avenue\, Renovo\, PA\, 17764\, United States
ATTACH;FMTTYPE=image/jpeg:https://pastateflamingfoliagefestival.org/wp-content/uploads/2023/03/Parade-2022-Bagppipes_PA-State-Flaming-Foliage-Festival.jpg
END:VEVENT
BEGIN:VEVENT
DTSTART;TZID=America/New_York:20241130T140000
DTEND;TZID=America/New_York:20241130T150000
DTSTAMP:20260425T085100
CREATED:20240201T140631Z
LAST-MODIFIED:20240201T140631Z
UID:2259-1732975200-1732978800@pastateflamingfoliagefestival.org
SUMMARY:Santa Parade 2024
DESCRIPTION:Join us on November 30\, 2024 for our Santa Parade at 2:00 p.m.
URL:https://pastateflamingfoliagefestival.org/event/santa-parade-2024/
ATTACH;FMTTYPE=image/png:https://pastateflamingfoliagefestival.org/wp-content/uploads/2021/05/PA-State-Flaming-Foliage-Festival-Logo.png
END:VEVENT
BEGIN:VEVENT
DTSTART;TZID=America/New_York:20250412T100000
DTEND;TZID=America/New_York:20250412T140000
DTSTAMP:20260425T085100
CREATED:20250403T154131Z
LAST-MODIFIED:20250403T154131Z
UID:2460-1744452000-1744466400@pastateflamingfoliagefestival.org
SUMMARY:CRAFT SHOW 2025
DESCRIPTION:Join us on April 12th from 10:00 a.m. – 2:00 p.m. for our Spring Craft Show at the Citizens Hose Fire Company in South Renovo\, PA. Vendors\, Homemade Pie Sale\, Ham Pot Pie\, Sandwiches\, Peanut Butter Sundaes\, Drinks\, Basket Raffle and pictures with the Easter Bunny! \nEASTER BUNNY WILL BE PRESENT 11am to 1pm\n  \n 
URL:https://pastateflamingfoliagefestival.org/event/craft-show-2025/
ATTACH;FMTTYPE=image/jpeg:https://pastateflamingfoliagefestival.org/wp-content/uploads/2023/01/Spring-Craft-Show-2023_PA-State-Flaming-Foliage-Festival.jpg
END:VEVENT
BEGIN:VEVENT
DTSTART;TZID=America/New_York:20260328T100000
DTEND;TZID=America/New_York:20260328T140000
DTSTAMP:20260425T085100
CREATED:20230102T170817Z
LAST-MODIFIED:20260325T190716Z
UID:1974-1774692000-1774706400@pastateflamingfoliagefestival.org
SUMMARY:Spring Craft Show 2026
DESCRIPTION:Join us on March 28\, 2026 from 10:00 a.m. – 2:00 p.m. for our Spring Craft Show at the Citizens Hose Fire Company in South Renovo\, PA. Over 20 tables\, homemade pie sale\, food and drinks\, basket raffle\, and pictures with the Easter Bunny! \n 
URL:https://pastateflamingfoliagefestival.org/event/spring-craft-show-2023/
ATTACH;FMTTYPE=image/jpeg:https://pastateflamingfoliagefestival.org/wp-content/uploads/2023/01/Spring-Craft-Show-2023_PA-State-Flaming-Foliage-Festival.jpg
END:VEVENT
BEGIN:VEVENT
DTSTART;TZID=America/New_York:20260612T160000
DTEND;TZID=America/New_York:20260613T160000
DTSTAMP:20260425T085100
CREATED:20230102T170944Z
LAST-MODIFIED:20260326T130800Z
UID:1977-1781280000-1781366400@pastateflamingfoliagefestival.org
SUMMARY:Mr. Stickey Sale 2026
DESCRIPTION:Join us for our 2026  Mr. Stickey  Sale on June 12th and 13th at the Flaming Foliage Information Center Lot starting at 4 PM
URL:https://pastateflamingfoliagefestival.org/event/mr-stickey-and-coffee-sale-2023/
LOCATION:PA State Flaming Foliage Festival\, 1200 Huron Avenue\, Renovo\, PA\, 17764\, United States
END:VEVENT
BEGIN:VEVENT
DTSTART;TZID=America/New_York:20260815T130000
DTEND;TZID=America/New_York:20260815T170000
DTSTAMP:20260425T085100
CREATED:20260326T183450Z
LAST-MODIFIED:20260326T183450Z
UID:2785-1786798800-1786813200@pastateflamingfoliagefestival.org
SUMMARY:2026 BINGO
DESCRIPTION:AUGUST 15\, 2026 HIT THE JACKPOT AT BINGO…STARTING AT 1 PM AT ST. JOE’S ACTIVITY CENTER…
URL:https://pastateflamingfoliagefestival.org/event/2026-bingo/
END:VEVENT
BEGIN:VEVENT
DTSTART;TZID=America/New_York:20260919T110000
DTEND;TZID=America/New_York:20260919T150000
DTSTAMP:20260425T085100
CREATED:20250813T154509Z
LAST-MODIFIED:20260325T183656Z
UID:2648-1789815600-1789830000@pastateflamingfoliagefestival.org
SUMMARY:PING PONG PALOOZA
DESCRIPTION:SEPTEMBER 19\, 2026 Starting at 11:00am \nAT THE FLAMING FOLIAGE LOT\, 12TH & HURON AVENUE\, RENOVO \nSOUP SALE\, BASKET RAFFLE\, PUMPKIN DECORATING CONTEST \nHAM POT PIE AND OTHER FOOD & FUN FOR ALL AGES
URL:https://pastateflamingfoliagefestival.org/event/ping-pong-palooza/
LOCATION:PA State Flaming Foliage Festival\, 1200 Huron Avenue\, Renovo\, PA\, 17764\, United States
END:VEVENT
BEGIN:VEVENT
DTSTART;TZID=America/New_York:20261009T070000
DTEND;TZID=America/New_York:20261011T180000
DTSTAMP:20260425T085100
CREATED:20220110T223754Z
LAST-MODIFIED:20260325T191454Z
UID:1719-1791529200-1791741600@pastateflamingfoliagefestival.org
SUMMARY:77th Flaming Foliage  Festival Weekend
DESCRIPTION:October 9\,10\,11\, 2026
URL:https://pastateflamingfoliagefestival.org/event/73rd-flaming-foliage-weekend/
LOCATION:PA State Flaming Foliage Festival\, 1200 Huron Avenue\, Renovo\, PA\, 17764\, United States
END:VEVENT
BEGIN:VEVENT
DTSTART;TZID=America/New_York:20261129T150000
DTEND;TZID=America/New_York:20261129T170000
DTSTAMP:20260425T085100
CREATED:20220110T223930Z
LAST-MODIFIED:20260325T191215Z
UID:1722-1795964400-1795971600@pastateflamingfoliagefestival.org
SUMMARY:2026 Flaming Foliage Santa Parade and Lighting of the Christmas Tree
DESCRIPTION:Join us on November 29\, 2026 at 3:00 p.m. for our annual Flaming Foliage Santa Parade and Lighting of the Christmas Tree! Anyone wanting to participate in the parade may call 570-923-2411. Floats\, units and walkers or your pet wearing Christmas attire are included. Cash prizes will be awarded! SANTA will visit with area children to hear their Christmas wishes following the parade. \n 
URL:https://pastateflamingfoliagefestival.org/event/2022-flaming-foliage-santa-parade/
LOCATION:PA State Flaming Foliage Festival\, 1200 Huron Avenue\, Renovo\, PA\, 17764\, United States
ATTACH;FMTTYPE=image/jpeg:https://pastateflamingfoliagefestival.org/wp-content/uploads/2022/06/Colemans-Landscaping-red-truck-parade_PA-State-Flaming-Foliage-Festival.jpg.jpg
END:VEVENT
END:VCALENDAR