BEGIN:VCALENDAR
VERSION:2.0
PRODID:-//PA State Flaming Foliage Festival - ECPv6.15.20//NONSGML v1.0//EN
CALSCALE:GREGORIAN
METHOD:PUBLISH
X-WR-CALNAME:PA State Flaming Foliage Festival
X-ORIGINAL-URL:https://pastateflamingfoliagefestival.org
X-WR-CALDESC:Events for PA State Flaming Foliage Festival
REFRESH-INTERVAL;VALUE=DURATION:PT1H
X-Robots-Tag:noindex
X-PUBLISHED-TTL:PT1H
BEGIN:VTIMEZONE
TZID:America/New_York
BEGIN:DAYLIGHT
TZOFFSETFROM:-0500
TZOFFSETTO:-0400
TZNAME:EDT
DTSTART:20200308T070000
END:DAYLIGHT
BEGIN:STANDARD
TZOFFSETFROM:-0400
TZOFFSETTO:-0500
TZNAME:EST
DTSTART:20201101T060000
END:STANDARD
BEGIN:DAYLIGHT
TZOFFSETFROM:-0500
TZOFFSETTO:-0400
TZNAME:EDT
DTSTART:20210314T070000
END:DAYLIGHT
BEGIN:STANDARD
TZOFFSETFROM:-0400
TZOFFSETTO:-0500
TZNAME:EST
DTSTART:20211107T060000
END:STANDARD
BEGIN:DAYLIGHT
TZOFFSETFROM:-0500
TZOFFSETTO:-0400
TZNAME:EDT
DTSTART:20220313T070000
END:DAYLIGHT
BEGIN:STANDARD
TZOFFSETFROM:-0400
TZOFFSETTO:-0500
TZNAME:EST
DTSTART:20221106T060000
END:STANDARD
BEGIN:DAYLIGHT
TZOFFSETFROM:-0500
TZOFFSETTO:-0400
TZNAME:EDT
DTSTART:20230312T070000
END:DAYLIGHT
BEGIN:STANDARD
TZOFFSETFROM:-0400
TZOFFSETTO:-0500
TZNAME:EST
DTSTART:20231105T060000
END:STANDARD
BEGIN:DAYLIGHT
TZOFFSETFROM:-0500
TZOFFSETTO:-0400
TZNAME:EDT
DTSTART:20240310T070000
END:DAYLIGHT
BEGIN:STANDARD
TZOFFSETFROM:-0400
TZOFFSETTO:-0500
TZNAME:EST
DTSTART:20241103T060000
END:STANDARD
END:VTIMEZONE
BEGIN:VEVENT
DTSTART;VALUE=DATE:20230916
DTEND;VALUE=DATE:20230917
DTSTAMP:20260423T200626
CREATED:20230102T171054Z
LAST-MODIFIED:20230102T171054Z
UID:1979-1694822400-1694908799@pastateflamingfoliagefestival.org
SUMMARY:Pot Pie and Soup Sale 2023
DESCRIPTION:Join us on September 16\, 2023 for our Pot Pie and Soup Sale Basket Raffle.
URL:https://pastateflamingfoliagefestival.org/event/pot-pie-and-soup-sale-2023/
END:VEVENT
BEGIN:VEVENT
DTSTART;TZID=America/New_York:20220917T110000
DTEND;TZID=America/New_York:20220917T170000
DTSTAMP:20260423T200626
CREATED:20220907T123327Z
LAST-MODIFIED:20220907T125842Z
UID:1879-1663412400-1663434000@pastateflamingfoliagefestival.org
SUMMARY:Autumn Fundraiser 2022
DESCRIPTION:Ham Pot Pie & Soup Sale\nJoin us on Saturday\, September 17th starting at 11:00 a.m. at the Flaming Foliage Lot for a large variety of homemade soups for sale\, basket raffle\, kids pumpkin contest\, ping pong palooza raffle\, and more! \nCall 570-923-2144 to donate a basket. \nPing Pong Palooza Raffle Chances available until 1:30 p.m.\n1st Prize $300 Cash\n2nd Prize $100 Gift Card Tony’s Hardware\n3rd Prize Year’s Subscription The Record\nTickets available from any committee member \nPumpkin Contest \nReminding all kids to get their pumpkin ready for the Flaming Foliage Festival pumpkin decorating contest. \nKids can enter a carved\, painted\, or decorated pumpkin of their choice. \nBring your pumpkin to the Flaming Foliage Soup & Ham Pot Pie sale by 11:00 a.m. on September 17th. \nThree cash prizes will be awarded in the following categories; Original\, Funniest\, and Ugliest. \n 
URL:https://pastateflamingfoliagefestival.org/event/autumn-fundraiser-2022/
LOCATION:PA State Flaming Foliage Festival\, 1200 Huron Avenue\, Renovo\, PA\, 17764\, United States
END:VEVENT
BEGIN:VEVENT
DTSTART;TZID=America/New_York:20220917T110000
DTEND;TZID=America/New_York:20220917T150000
DTSTAMP:20260423T200626
CREATED:20220110T223459Z
LAST-MODIFIED:20220110T223459Z
UID:1715-1663412400-1663426800@pastateflamingfoliagefestival.org
SUMMARY:Ping Pong Palooza\, Soup & Pot Pie Sale\, Basket Raffle 2022
DESCRIPTION:September 17\, 2022\nFlaming Foliage Lot\nStarting at 11:00 a.m.
URL:https://pastateflamingfoliagefestival.org/event/ping-pong-palooza-soup-pot-pie-sale-basket-raffle-2022/
LOCATION:PA State Flaming Foliage Festival\, 1200 Huron Avenue\, Renovo\, PA\, 17764\, United States
END:VEVENT
BEGIN:VEVENT
DTSTART;TZID=America/New_York:20220409T100000
DTEND;TZID=America/New_York:20220409T140000
DTSTAMP:20260423T200626
CREATED:20220110T223044Z
LAST-MODIFIED:20220110T223044Z
UID:1711-1649498400-1649512800@pastateflamingfoliagefestival.org
SUMMARY:April 2022 Craft Show
DESCRIPTION:April 9th Renovo Fire Hall\n230 11th Street\n10 a.m. – 2:00 p.m.
URL:https://pastateflamingfoliagefestival.org/event/april-2022-craft-show/
END:VEVENT
BEGIN:VEVENT
DTSTART;TZID=America/New_York:20211128T163000
DTEND;TZID=America/New_York:20211128T173000
DTSTAMP:20260423T200626
CREATED:20211020T183052Z
LAST-MODIFIED:20211103T125429Z
UID:1685-1638117000-1638120600@pastateflamingfoliagefestival.org
SUMMARY:Christmas Parade 2021
DESCRIPTION:Join us on Sunday\, November 28th at 4:30 p.m. for our annual Christmas parade! The parade will run from 3rd Street down Huron to the PA State Flaming Foliage Festival lot in Renovo\, Pa. Come see Santa\, our reigning Queen\, Miss Bucktail\, Laurel and Hostesses\, and more! \nAnyone wanting to be a part of our parade may call 570-367-1543. Awards will be presented! \nCookies and Hot Chocolate will be served to children. \nSee you there!
URL:https://pastateflamingfoliagefestival.org/event/christmas-parade-2021/
LOCATION:PA State Flaming Foliage Festival\, 1200 Huron Avenue\, Renovo\, PA\, 17764\, United States
END:VEVENT
BEGIN:VEVENT
DTSTART;TZID=America/New_York:20211009T134500
DTEND;TZID=America/New_York:20211009T150000
DTSTAMP:20260423T200626
CREATED:20210519T165640Z
LAST-MODIFIED:20210519T165640Z
UID:1234-1633787100-1633791600@pastateflamingfoliagefestival.org
SUMMARY:Parade 2021
DESCRIPTION:Our family friendly parade begins at 1:45 p.m. on Saturday\, October 9\, 2021 on 3rd and Huron Avenue. \n\n\nHOW TO PARTICIPATE\n\n\n\n\nContact Pattie at 570-923-2411 to participate. There is no fee to participate.
URL:https://pastateflamingfoliagefestival.org/event/parade-2021/
END:VEVENT
BEGIN:VEVENT
DTSTART;TZID=America/New_York:20211009T083000
DTEND;TZID=America/New_York:20211009T210000
DTSTAMP:20260423T200626
CREATED:20210519T164451Z
LAST-MODIFIED:20210519T165833Z
UID:1225-1633768200-1633813200@pastateflamingfoliagefestival.org
SUMMARY:Queens Schedule 2021
DESCRIPTION:Saturday\, October 9\, 2021\n8:30 a.m.   QUEEN’S REGISTRATION – St. Joseph’s Social Hall on 9th Street\n9:00 a.m.   WELCOME – Review of Queen’s Schedule\n9:30 a.m.   QUEEN’S INTERVIEW – This is a very important part of your day. During this event\, you will meet the judges for your first interview. Beverages and baked goods will be served.\n11:45 a.m.  QUEEN’S LUNCHEON – United Methodist Church Social Hall on 7th Street\n1:00 p.m.   OFFICIAL GROUP PHOTOGRAPH – Yesterday’s Hotel on 3rd and Huron Avenue\n1:45 p.m.   2021 PARADE OF QUEENS – Begins at Yesterday’s Hotel on 3rd and Huron Avenue\n5:30 p.m.   QUEEN’S BANQUET – St. Joseph’s Church Social Hall\n7:00 p.m.   CORONATION – Bucktail Area High School. Each Queen Contestant will be required to give a short speech during the Coronation Ceremony. Your sppech should include your name\, school you are representing\, introduction of your escort\, and a thank you to your host family.
URL:https://pastateflamingfoliagefestival.org/event/queen-schedule-2021/
END:VEVENT
BEGIN:VEVENT
DTSTART;TZID=America/New_York:20211008T060000
DTEND;TZID=America/New_York:20211010T200000
DTSTAMP:20260423T200626
CREATED:20210519T164717Z
LAST-MODIFIED:20210519T165852Z
UID:1229-1633672800-1633896000@pastateflamingfoliagefestival.org
SUMMARY:Arts & Craft Show 2021
DESCRIPTION:Come and shop our three day craft show with more than 150 vendors including crafters and food vendors. Located at the Flaming Foliage Festival Lot on 12th Street in Renovo\, PA. \nFriday\, October 8\, 2021\nDawn to Dusk\nSaturday\, October 9\, 2021\nDawn to Dusk\nSunday\, October 10\, 2021\nDawn to Dusk \n\n\n\n\n\n\nBECOME A VENDOR\n\n\n\n\nTo become a vendor of our arts & craft show\, please call 570-923-2411 beginning in July for availability. Annual vendors will receive their registration forms in the springtime.
URL:https://pastateflamingfoliagefestival.org/event/arts-craft-show-2021/
LOCATION:1200 Huron Avenue\, Renovo\, PA\, 17764
END:VEVENT
BEGIN:VEVENT
DTSTART;VALUE=DATE:20210918
DTEND;VALUE=DATE:20210919
DTSTAMP:20260423T200626
CREATED:20210609T124916Z
LAST-MODIFIED:20210609T124916Z
UID:1430-1631923200-1632009599@pastateflamingfoliagefestival.org
SUMMARY:Soup Sale and Basket Raffle - September 2021
DESCRIPTION:Join us on Saturday\, September 18\, 2021 for our Soup Sale and Basket Raffle! \nDate:\nSeptember 18\, 2021 \nTime:\nTBA \nHow to donate soup or basket:\nPlease call 570-923-2411 or contact any committee member.
URL:https://pastateflamingfoliagefestival.org/event/soup-sale-and-basket-raffle-september-2021/
LOCATION:PA State Flaming Foliage Festival\, 1200 Huron Avenue\, Renovo\, PA\, 17764\, United States
END:VEVENT
BEGIN:VEVENT
DTSTART;TZID=America/New_York:20210612T070000
DTEND;TZID=America/New_York:20210612T170000
DTSTAMP:20260423T200626
CREATED:20210609T124446Z
LAST-MODIFIED:20210609T125052Z
UID:1428-1623481200-1623517200@pastateflamingfoliagefestival.org
SUMMARY:Mr. Sticky Sale June 2021
DESCRIPTION:Come enjoy tasty sticky buns for our June Mr. Sticky Sale! \nDate and Time:\nJune 11th from 3:30 p.m. until 6:30 p.m.\nJune 12th from 7:00 a.m. until sold out \nLocation:\nPA State Flaming Foliage Festival Lot\n1200 Huron Avenue\nRenovo\, PA 17764
URL:https://pastateflamingfoliagefestival.org/event/mr-sticky-sale-june-2021/
LOCATION:PA State Flaming Foliage Festival\, 1200 Huron Avenue\, Renovo\, PA\, 17764\, United States
END:VEVENT
BEGIN:VEVENT
DTSTART;TZID=America/New_York:20210611T153000
DTEND;TZID=America/New_York:20210611T183000
DTSTAMP:20260423T200626
CREATED:20210609T124214Z
LAST-MODIFIED:20210609T124241Z
UID:1424-1623425400-1623436200@pastateflamingfoliagefestival.org
SUMMARY:Mr. Sticky Sale June 2021
DESCRIPTION:Come enjoy tasty sticky buns for our June Mr. Sticky Sale! \nDate and Time:\nJune 11th from 3:30 p.m. until 6:30 p.m.\nJune 12th from 7:00 a.m. until sold out \nLocation:\nPA State Flaming Foliage Festival Lot\n1200 Huron Avenue\nRenovo\, PA 17764
URL:https://pastateflamingfoliagefestival.org/event/june-2021-mr-sticky-sale/
LOCATION:PA State Flaming Foliage Festival\, 1200 Huron Avenue\, Renovo\, PA\, 17764\, United States
END:VEVENT
END:VCALENDAR