BEGIN:VCALENDAR
VERSION:2.0
PRODID:-//PA State Flaming Foliage Festival - ECPv6.15.20//NONSGML v1.0//EN
CALSCALE:GREGORIAN
METHOD:PUBLISH
X-ORIGINAL-URL:https://pastateflamingfoliagefestival.org
X-WR-CALDESC:Events for PA State Flaming Foliage Festival
REFRESH-INTERVAL;VALUE=DURATION:PT1H
X-Robots-Tag:noindex
X-PUBLISHED-TTL:PT1H
BEGIN:VTIMEZONE
TZID:America/New_York
BEGIN:DAYLIGHT
TZOFFSETFROM:-0500
TZOFFSETTO:-0400
TZNAME:EDT
DTSTART:20230312T070000
END:DAYLIGHT
BEGIN:STANDARD
TZOFFSETFROM:-0400
TZOFFSETTO:-0500
TZNAME:EST
DTSTART:20231105T060000
END:STANDARD
BEGIN:DAYLIGHT
TZOFFSETFROM:-0500
TZOFFSETTO:-0400
TZNAME:EDT
DTSTART:20240310T070000
END:DAYLIGHT
BEGIN:STANDARD
TZOFFSETFROM:-0400
TZOFFSETTO:-0500
TZNAME:EST
DTSTART:20241103T060000
END:STANDARD
BEGIN:DAYLIGHT
TZOFFSETFROM:-0500
TZOFFSETTO:-0400
TZNAME:EDT
DTSTART:20250309T070000
END:DAYLIGHT
BEGIN:STANDARD
TZOFFSETFROM:-0400
TZOFFSETTO:-0500
TZNAME:EST
DTSTART:20251102T060000
END:STANDARD
END:VTIMEZONE
BEGIN:VEVENT
DTSTART;VALUE=DATE:20241011
DTEND;VALUE=DATE:20241014
DTSTAMP:20260424T120252
CREATED:20240201T141156Z
LAST-MODIFIED:20240201T141156Z
UID:2263-1728604800-1728863999@pastateflamingfoliagefestival.org
SUMMARY:75th PA State Flaming Foliage Festival 2024
DESCRIPTION:We are excited to announce our 75th PA State Flaming Foliage Festive 2024 dates! Join us this year during the second full weekend in October 11\, 12\, and 13. What could be more fun than a weekend filled with arts and crafts\, a queen coronation\, a parade\, talent show\, flaming foliage\, and more! Learn more
URL:https://pastateflamingfoliagefestival.org/event/75th-pa-state-flaming-foliage-festival-2024/
LOCATION:PA State Flaming Foliage Festival\, 1200 Huron Avenue\, Renovo\, PA\, 17764\, United States
ATTACH;FMTTYPE=image/jpeg:https://pastateflamingfoliagefestival.org/wp-content/uploads/2023/03/Parade-2022-Bagppipes_PA-State-Flaming-Foliage-Festival.jpg
END:VEVENT
END:VCALENDAR